BEGIN:VCALENDAR
PRODID:-//IONAS//RIS//DE
VERSION:2.0
CALSCALE:GREGORIAN
BEGIN:VEVENT
DTSTAMP:20260424T001111Z
DTSTART:20180807T180500
DTEND:20180807T182000
SUMMARY:Sitzung des Ortsbeirates Großwinternheim
LOCATION:\, \, null null
DESCRIPTION:Tagesordnungspunkte\n1 Vorhabenbezogener Bebauungsplan „Weing
 ut Obentrautstraße 3“\n1. Beschluss des Durchführungsvertrages\n2. Ermächtigung zum Abschluss des Durchführungsvertrages
UID:BiRdueNRx_1VsdVk
END:VEVENT
END:VCALENDAR
