BEGIN:VCALENDAR
PRODID:-//IONAS//RIS//DE
VERSION:2.0
CALSCALE:GREGORIAN
BEGIN:VEVENT
DTSTAMP:20260423T212754Z
DTSTART:20190114T180600
DTEND:20190114T185000
SUMMARY:Sitzung des Haupt- und Finanzausschusses
LOCATION:\, \, null null
DESCRIPTION:Tagesordnungspunkte\n1 Mitteilungen\n2 Beantwortung von Anfra
 gen\n3 Bauhof der Stadt Ingelheim am Rhein\;\nWiedereingliederung in den Haushalt der Stadtverwaltung Ingelheim am Rh
 ein\n4 Nachtrag zur Nutzungsvereinbarung Stadt Ingelheim ./. Katholische
  Pfarrei St. Remigius\n5 Annahme von Sponsoringleistungen\, Spenden\, Sc
 henkungen und ähnlichen Zuwendungen\;\nBeschluss für das 4. Quartal 2018
UID:wVOSLkkooIvj8ukn
END:VEVENT
END:VCALENDAR
