BEGIN:VCALENDAR
PRODID:-//IONAS//RIS//DE
VERSION:2.0
CALSCALE:GREGORIAN
BEGIN:VEVENT
DTSTAMP:20260424T000524Z
DTSTART:20190121T170500
DTEND:20190121T175000
SUMMARY:Sitzung des Stadtrates
LOCATION:\, \, null null
DESCRIPTION:Tagesordnungspunkte\n1 Mitteilungen\n2 Beantwortung von Anfra
 gen\n3 Nachtrag zur Nutzungsvereinbarung Stadt Ingelheim ./. Katholische
  Pfarrei St. Remigius\n4 Antrag der CDU-Fraktion vom 07.01.2019 zum Them
 a: \"Vorsorge vor Starkregenereignissen\"\n5 Antrag der SPD-Fraktion vom
  15.01.2019 zum Thema: \"Projekt Wohnen für Hilfe\"\n6 Entpflichtung und
  Verabschiedung des ehrenamtlichen Wehrleiters Hans-Peter Stoffel\n7 Bes
 tellung des neuen hauptamtlichen Wehrleiters der Stadt Ingelheim am Rhei
 n - Mirko Gauer
UID:xXIH2Jp8xffddx3x
END:VEVENT
END:VCALENDAR
